BEGIN:VCALENDAR
VERSION:2.0
PRODID:-//D&#039;Beeforter Senioren - ECPv6.15.18//NONSGML v1.0//EN
CALSCALE:GREGORIAN
METHOD:PUBLISH
X-ORIGINAL-URL:https://beeforter.senioren.lu
X-WR-CALDESC:Veranstaltungen für D&#039;Beeforter Senioren
REFRESH-INTERVAL;VALUE=DURATION:PT1H
X-Robots-Tag:noindex
X-PUBLISHED-TTL:PT1H
BEGIN:VTIMEZONE
TZID:Europe/Luxembourg
BEGIN:DAYLIGHT
TZOFFSETFROM:+0100
TZOFFSETTO:+0200
TZNAME:CEST
DTSTART:20160327T010000
END:DAYLIGHT
BEGIN:STANDARD
TZOFFSETFROM:+0200
TZOFFSETTO:+0100
TZNAME:CET
DTSTART:20161030T010000
END:STANDARD
BEGIN:DAYLIGHT
TZOFFSETFROM:+0100
TZOFFSETTO:+0200
TZNAME:CEST
DTSTART:20170326T010000
END:DAYLIGHT
BEGIN:STANDARD
TZOFFSETFROM:+0200
TZOFFSETTO:+0100
TZNAME:CET
DTSTART:20171029T010000
END:STANDARD
BEGIN:DAYLIGHT
TZOFFSETFROM:+0100
TZOFFSETTO:+0200
TZNAME:CEST
DTSTART:20180325T010000
END:DAYLIGHT
BEGIN:STANDARD
TZOFFSETFROM:+0200
TZOFFSETTO:+0100
TZNAME:CET
DTSTART:20181028T010000
END:STANDARD
BEGIN:DAYLIGHT
TZOFFSETFROM:+0100
TZOFFSETTO:+0200
TZNAME:CEST
DTSTART:20190331T010000
END:DAYLIGHT
BEGIN:STANDARD
TZOFFSETFROM:+0200
TZOFFSETTO:+0100
TZNAME:CET
DTSTART:20191027T010000
END:STANDARD
BEGIN:DAYLIGHT
TZOFFSETFROM:+0100
TZOFFSETTO:+0200
TZNAME:CEST
DTSTART:20200329T010000
END:DAYLIGHT
BEGIN:STANDARD
TZOFFSETFROM:+0200
TZOFFSETTO:+0100
TZNAME:CET
DTSTART:20201025T010000
END:STANDARD
BEGIN:DAYLIGHT
TZOFFSETFROM:+0100
TZOFFSETTO:+0200
TZNAME:CEST
DTSTART:20210328T010000
END:DAYLIGHT
BEGIN:STANDARD
TZOFFSETFROM:+0200
TZOFFSETTO:+0100
TZNAME:CET
DTSTART:20211031T010000
END:STANDARD
END:VTIMEZONE
BEGIN:VEVENT
DTSTART;VALUE=DATE:20200616
DTEND;VALUE=DATE:20200617
DTSTAMP:20260423T145828
CREATED:20200419T150540Z
LAST-MODIFIED:20200419T150540Z
UID:1115-1592265600-1592351999@beeforter.senioren.lu
SUMMARY:26.06.2020 Mir fueren op de Maort op Maastricht
DESCRIPTION:
URL:https://beeforter.senioren.lu/termin/26-06-2020-mir-fueren-op-de-maort-op-maastricht/
LOCATION:Maastricht\, Maastricht\, Niederlande
CATEGORIES:Tagesreise
END:VEVENT
BEGIN:VEVENT
DTSTART;TZID=Europe/Luxembourg:20200122T140000
DTEND;TZID=Europe/Luxembourg:20200122T170000
DTSTAMP:20260423T145828
CREATED:20200501T163046Z
LAST-MODIFIED:20200501T163046Z
UID:1154-1579701600-1579712400@beeforter.senioren.lu
SUMMARY:Porte Ouverte op der Kummel
DESCRIPTION:Mir treffen eis op der Kummel fir e gemütleche Mëtteg ze verbrëngen
URL:https://beeforter.senioren.lu/termin/porte-ouverte-op-der-kummel-2/
LOCATION:Op der Kummel\, 13\, rue Kummel\, Beafort\, Grevenmacher\, 6310\, Luxemburg
CATEGORIES:Porte Ouverte
END:VEVENT
BEGIN:VEVENT
DTSTART;TZID=Europe/Luxembourg:20191215T153000
DTEND;TZID=Europe/Luxembourg:20191215T173000
DTSTAMP:20260423T145828
CREATED:20190328T132201Z
LAST-MODIFIED:20190328T132201Z
UID:903-1576423800-1576431000@beeforter.senioren.lu
SUMMARY:15.12.2019 Krëschtfeier mat Tombola
DESCRIPTION:De 15. Dezember hu mir eis Krëschtfeier op der Kummel. Wéi all Joer mache mir och eng flott Tombola. Do hut dir dann och erëm d’Chance als als Haptattraktioun 2 Hamen „Serano“ ze gewannen. \nDe Kaffi an eng Bûche crème au beurre mokka zervéiren mir iech gratis. \n  \nFir déi gemittlech Weihnachtsstëmmung wärt dann och erem eise Beeforter Kiirchechouer suergen. \n  \n 
URL:https://beeforter.senioren.lu/termin/15-12-2019-kreschtfeier-mat-tombola/
LOCATION:Op der Kummel\, 13\, rue Kummel\, Beafort\, Grevenmacher\, 6310\, Luxemburg
CATEGORIES:lokal Veranstaltung
END:VEVENT
BEGIN:VEVENT
DTSTART;TZID=Europe/Luxembourg:20191106T110000
DTEND;TZID=Europe/Luxembourg:20191106T170000
DTSTAMP:20260423T145828
CREATED:20190312T145504Z
LAST-MODIFIED:20190312T145504Z
UID:870-1573038000-1573059600@beeforter.senioren.lu
SUMMARY:06.11.2019 Happy Birthday
DESCRIPTION:
URL:https://beeforter.senioren.lu/termin/06-11-2019-happy-birthday/
LOCATION:Hôtel Meyer\,  120\, Grand-Rue\, Beaufort\, 6310 \, Luxemburg
CATEGORIES:lokal Veranstaltung
END:VEVENT
BEGIN:VEVENT
DTSTART;VALUE=DATE:20190804
DTEND;VALUE=DATE:20190805
DTSTAMP:20260423T145828
CREATED:20190329T110243Z
LAST-MODIFIED:20190329T110544Z
UID:916-1564876800-1564963199@beeforter.senioren.lu
SUMMARY:04.08.2018 Grillfest
DESCRIPTION:Mir grillen op der Kummel \nMir hun och flott Animatioun \n  \nAn eng schéin Tombola
URL:https://beeforter.senioren.lu/termin/04-08-2018-grillfest/
LOCATION:Op der Kummel\, 13\, rue Kummel\, Beafort\, Grevenmacher\, 6310\, Luxemburg
CATEGORIES:lokal Veranstaltung
END:VEVENT
BEGIN:VEVENT
DTSTART;TZID=Europe/Luxembourg:20190619T080000
DTEND;TZID=Europe/Luxembourg:20190619T170000
DTSTAMP:20260423T145828
CREATED:20190329T105632Z
LAST-MODIFIED:20190329T105647Z
UID:914-1560931200-1560963600@beeforter.senioren.lu
SUMMARY:19.06.2019 Tagesfahrt
DESCRIPTION:Weider Informatiounen kommen nach
URL:https://beeforter.senioren.lu/termin/19-06-2019-tagesfahrt/
LOCATION:Grevenmacher
CATEGORIES:Tagesreise
END:VEVENT
BEGIN:VEVENT
DTSTART;TZID=Europe/Luxembourg:20190605T143000
DTEND;TZID=Europe/Luxembourg:20190605T170000
DTSTAMP:20260423T145828
CREATED:20190329T105453Z
LAST-MODIFIED:20190329T105453Z
UID:912-1559745000-1559754000@beeforter.senioren.lu
SUMMARY:05.06.2019 Mammendagsfeier
DESCRIPTION:Mir feieren Mammendag op der Kummel. All ons Dammen kréien e klenge Cadeau
URL:https://beeforter.senioren.lu/termin/05-06-2019-mammendagsfeier/
LOCATION:Op der Kummel\, 13\, rue Kummel\, Beafort\, Grevenmacher\, 6310\, Luxemburg
CATEGORIES:Porte Ouverte
END:VEVENT
BEGIN:VEVENT
DTSTART;TZID=Europe/Luxembourg:20190522T110000
DTEND;TZID=Europe/Luxembourg:20190522T160000
DTSTAMP:20260423T145828
CREATED:20190329T101724Z
LAST-MODIFIED:20190425T195314Z
UID:909-1558522800-1558540800@beeforter.senioren.lu
SUMMARY:22.05.2019 Mir gin Spargelen iesssen
DESCRIPTION:Den 22. Mai fuere mir mam Bus an den Hotel Kinnen op Berdorf fir eist jährlecht Spargeliessen. \n  \n2019-05-22_Spargeliessen
URL:https://beeforter.senioren.lu/termin/22-05-2019-mir-gin-spargelen-iesssen/
LOCATION:Hotel Kinnen\, Berdorf\, Berdorf\, 6550\, Luxemburg
CATEGORIES:Tagesreise
END:VEVENT
BEGIN:VEVENT
DTSTART;TZID=Europe/Luxembourg:20190515T100000
DTEND;TZID=Europe/Luxembourg:20190515T170000
DTSTAMP:20260423T145828
CREATED:20190329T101312Z
LAST-MODIFIED:20190406T170305Z
UID:907-1557914400-1557939600@beeforter.senioren.lu
SUMMARY:15.05.2019 Mir fueren an d'Oktav
DESCRIPTION:Em 10 Auer fuere mir mam Bus an d’Oktav. \nZu Beefort sammele mir d’Leit op den üblechen Haltestellen an. \nMir klammen bei der Kathedral aus dem Bus. \n  \nDemnächst fand dir hei eise Flyer
URL:https://beeforter.senioren.lu/termin/15-05-2019-mir-fueren-an-doktav/
LOCATION:Luxemburg\, Luxemburg\, 2240\, Luxemburg
CATEGORIES:Tagesreise
END:VEVENT
BEGIN:VEVENT
DTSTART;TZID=Europe/Luxembourg:20190417T143000
DTEND;TZID=Europe/Luxembourg:20190417T170000
DTSTAMP:20260423T145828
CREATED:20190317T183110Z
LAST-MODIFIED:20190317T183110Z
UID:891-1555511400-1555520400@beeforter.senioren.lu
SUMMARY:17.04.2019 Ouschterfeier
DESCRIPTION:Mir treffen eis op der Kummel fir eis Ouschterfeier 2019. Mir hun och fir Jiddfereen den eis besiche kënnt eng kleng Iwerraschung.
URL:https://beeforter.senioren.lu/termin/17-04-2019-ouschterfeier/
LOCATION:Op der Kummel\, 13\, rue Kummel\, Beafort\, Grevenmacher\, 6310\, Luxemburg
CATEGORIES:lokal Veranstaltung
END:VEVENT
BEGIN:VEVENT
DTSTART;TZID=Europe/Luxembourg:20190403T150000
DTEND;TZID=Europe/Luxembourg:20190403T170000
DTSTAMP:20260423T145828
CREATED:20190328T123733Z
LAST-MODIFIED:20190329T100856Z
UID:898-1554303600-1554310800@beeforter.senioren.lu
SUMMARY:03.04.2019 Generalversammlung
DESCRIPTION:Mir fréen eis esou vill Memberen wéi méiglech begréissen ze können. Mir fänken dann och un eis nei Memerskarten ze verkaafen. \nMir invitéiren iech zu engem gudde Patt an och engem ofwiesslungsreiche Büffet.
URL:https://beeforter.senioren.lu/termin/2019-04-03-generalversammlung/
LOCATION:Op der Kummel\, 13\, rue Kummel\, Beafort\, Grevenmacher\, 6310\, Luxemburg
CATEGORIES:lokal Veranstaltung
END:VEVENT
BEGIN:VEVENT
DTSTART;TZID=Europe/Luxembourg:20190306T110000
DTEND;TZID=Europe/Luxembourg:20190306T170000
DTSTAMP:20260423T145828
CREATED:20190312T193611Z
LAST-MODIFIED:20190312T193956Z
UID:881-1551870000-1551891600@beeforter.senioren.lu
SUMMARY:06.03.2019 Hierkefest
DESCRIPTION:Wéi all Joer treffe mir eis Äschermëttwoch fir agemachten Hierkefikets „à la Beeforter Senioren“ ze genéissen. Alternativ kann een och e Kéisplateau bestellen. \n  \nEise Programm
URL:https://beeforter.senioren.lu/termin/06-03-2019-hierkefest/
LOCATION:Op der Kummel\, 13\, rue Kummel\, Beafort\, Grevenmacher\, 6310\, Luxemburg
CATEGORIES:lokal Veranstaltung
END:VEVENT
BEGIN:VEVENT
DTSTART;TZID=Europe/Luxembourg:20190206T140000
DTEND;TZID=Europe/Luxembourg:20190206T170000
DTSTAMP:20260423T145828
CREATED:20190312T153957Z
LAST-MODIFIED:20190312T154104Z
UID:879-1549461600-1549472400@beeforter.senioren.lu
SUMMARY:06.02.2019 Porte Ouverte
DESCRIPTION:Mir treffen eis op der Kummel fir e gemütleche Mëtteg ze verbrëngen
URL:https://beeforter.senioren.lu/termin/06-02-2019-porte-ouverte/
LOCATION:Op der Kummel\, 13\, rue Kummel\, Beafort\, Grevenmacher\, 6310\, Luxemburg
CATEGORIES:Porte Ouverte
END:VEVENT
BEGIN:VEVENT
DTSTART;TZID=Europe/Luxembourg:20190123T140000
DTEND;TZID=Europe/Luxembourg:20190123T170000
DTSTAMP:20260423T145828
CREATED:20190312T153729Z
LAST-MODIFIED:20190312T153729Z
UID:877-1548252000-1548262800@beeforter.senioren.lu
SUMMARY:23.01.2019 Porte Ouverte
DESCRIPTION:
URL:https://beeforter.senioren.lu/termin/23-01-2019-porte-ouverte/
LOCATION:Op der Kummel\, 13\, rue Kummel\, Beafort\, Grevenmacher\, 6310\, Luxemburg
CATEGORIES:Porte Ouverte
END:VEVENT
BEGIN:VEVENT
DTSTART;TZID=Europe/Luxembourg:20190109T143000
DTEND;TZID=Europe/Luxembourg:20190109T170000
DTSTAMP:20260423T145828
CREATED:20190312T150712Z
LAST-MODIFIED:20190312T150712Z
UID:874-1547044200-1547053200@beeforter.senioren.lu
SUMMARY:09.01.2019 Porte Ouvert
DESCRIPTION:
URL:https://beeforter.senioren.lu/termin/09-01-2019-porte-ouvert/
LOCATION:Op der Kummel\, 13\, rue Kummel\, Beafort\, Grevenmacher\, 6310\, Luxemburg
CATEGORIES:Porte Ouverte
END:VEVENT
BEGIN:VEVENT
DTSTART;TZID=Europe/Luxembourg:20180328T143000
DTEND;TZID=Europe/Luxembourg:20180328T173000
DTSTAMP:20260423T145828
CREATED:20171210T113552Z
LAST-MODIFIED:20171210T113626Z
UID:522-1522247400-1522258200@beeforter.senioren.lu
SUMMARY:Ouschterfeier
DESCRIPTION:Den 28. März hu mir eis Ouschterfeier op der Kummel. Jiddfereen den kennt kritt en Ouschterhieschen geschenkt.
URL:https://beeforter.senioren.lu/termin/ouschterfeier-2/
LOCATION:Op der Kummel\, 13\, rue Kummel\, Beafort\, Grevenmacher\, 6310\, Luxemburg
CATEGORIES:lokal Veranstaltung
END:VEVENT
BEGIN:VEVENT
DTSTART;VALUE=DATE:20180307
DTEND;VALUE=DATE:20180308
DTSTAMP:20260423T145828
CREATED:20171210T112214Z
LAST-MODIFIED:20171210T112528Z
UID:517-1520380800-1520467199@beeforter.senioren.lu
SUMMARY:En Dag mam Bus op den Tour
DESCRIPTION:Mir fueren den  7. März mam Bus op en Tour. Wouhin ass nach net festgeluecht. Wann Dir eng Idee hutt wéi mir  den Dag solle gestallten\, dann mëllt Iech bei ons. \nMir schëcken do e separate Flyer eraus.
URL:https://beeforter.senioren.lu/termin/enn-dag-mam-bus-op-den-tour/
LOCATION:Grevenmacher
CATEGORIES:Tagesreise
END:VEVENT
BEGIN:VEVENT
DTSTART;TZID=Europe/Luxembourg:20180228T143000
DTEND;TZID=Europe/Luxembourg:20180228T173000
DTSTAMP:20260423T145828
CREATED:20171209T171822Z
LAST-MODIFIED:20171209T171838Z
UID:513-1519828200-1519839000@beeforter.senioren.lu
SUMMARY:Porte Ouverte
DESCRIPTION:Beeforter Senioren lueden iech Alleguer an op dir Member sidd oder nach nëtt.\nFir eis Portes Ouvertes braucht dir Iech net unzemëllen.
URL:https://beeforter.senioren.lu/termin/porte-ouverte-8/
LOCATION:Op der Kummel\, 13\, rue Kummel\, Beafort\, Grevenmacher\, 6310\, Luxemburg
CATEGORIES:Porte Ouverte
END:VEVENT
BEGIN:VEVENT
DTSTART;TZID=Europe/Luxembourg:20180214T113000
DTEND;TZID=Europe/Luxembourg:20180214T173000
DTSTAMP:20260423T145828
CREATED:20171209T172640Z
LAST-MODIFIED:20171209T172711Z
UID:515-1518607800-1518629400@beeforter.senioren.lu
SUMMARY:Hierkefest
DESCRIPTION:Bei den Senioren get et frësch angemaachten Hierken à la Luxembourgeoise. \nUmeldung bis 8 Déeg virun der Veranstaltung bei Léonie Switala um Telefon 83 61 79 \n 
URL:https://beeforter.senioren.lu/termin/hierkefest/
LOCATION:Op der Kummel\, 13\, rue Kummel\, Beafort\, Grevenmacher\, 6310\, Luxemburg
CATEGORIES:lokal Veranstaltung
END:VEVENT
BEGIN:VEVENT
DTSTART;TZID=Europe/Luxembourg:20180117T143000
DTEND;TZID=Europe/Luxembourg:20180117T173000
DTSTAMP:20260423T145828
CREATED:20171209T171344Z
LAST-MODIFIED:20171209T171344Z
UID:511-1516199400-1516210200@beeforter.senioren.lu
SUMMARY:Porte Ouverte
DESCRIPTION:Beeforter Senioren lueden iech Alleguer an op dir Member sidd oder nach nëtt.\nFir eis Portes Ouvertes braucht dir Iech net unzemëllen.
URL:https://beeforter.senioren.lu/termin/porte-ouverte-7/
LOCATION:Op der Kummel\, 13\, rue Kummel\, Beafort\, Grevenmacher\, 6310\, Luxemburg
CATEGORIES:Porte Ouverte
END:VEVENT
BEGIN:VEVENT
DTSTART;TZID=Europe/Luxembourg:20180103T143000
DTEND;TZID=Europe/Luxembourg:20180103T173000
DTSTAMP:20260423T145828
CREATED:20171209T170340Z
LAST-MODIFIED:20171209T170455Z
UID:508-1514989800-1515000600@beeforter.senioren.lu
SUMMARY:Porte Ouverte
DESCRIPTION:Beeforter Senioren  lueden iech Alleguer an  op dir Member sidd oder nach nëtt.\nFir eis Portes Ouvertes braucht dir Iech net unzemëllen.
URL:https://beeforter.senioren.lu/termin/porte-ouverte-6/
LOCATION:Op der Kummel\, 13\, rue Kummel\, Beafort\, Grevenmacher\, 6310\, Luxemburg
CATEGORIES:Porte Ouverte
END:VEVENT
BEGIN:VEVENT
DTSTART;VALUE=DATE:20171217
DTEND;VALUE=DATE:20171218
DTSTAMP:20260423T145828
CREATED:20170805T151224Z
LAST-MODIFIED:20170805T151224Z
UID:383-1513468800-1513555199@beeforter.senioren.lu
SUMMARY:Krëschtfeier 2017
DESCRIPTION:
URL:https://beeforter.senioren.lu/termin/kreschtfeier-2017/
LOCATION:Op der Kummel\, 13\, rue Kummel\, Beafort\, Grevenmacher\, 6310\, Luxemburg
CATEGORIES:lokal Veranstaltung
END:VEVENT
BEGIN:VEVENT
DTSTART;VALUE=DATE:20171208
DTEND;VALUE=DATE:20171209
DTSTAMP:20260423T145828
CREATED:20170805T150625Z
LAST-MODIFIED:20171203T102557Z
UID:377-1512691200-1512777599@beeforter.senioren.lu
SUMMARY:08.12.2017 Weihnachtsmarkt Traben Trarbach
DESCRIPTION:
URL:https://beeforter.senioren.lu/termin/weihnachtsmarkt-traben-trarbach/
LOCATION:Traben Trarbach\, Traben Trabach\, Rheinland Pfalz\, 56841\, Deutschland
CATEGORIES:Tagesreise
END:VEVENT
BEGIN:VEVENT
DTSTART;VALUE=DATE:20171206
DTEND;VALUE=DATE:20171207
DTSTAMP:20260423T145828
CREATED:20170805T150501Z
LAST-MODIFIED:20170805T150501Z
UID:375-1512518400-1512604799@beeforter.senioren.lu
SUMMARY:Nikloosfeier mat Bazar
DESCRIPTION:
URL:https://beeforter.senioren.lu/termin/nikloosfeier-mat-bazar/
LOCATION:Op der Kummel\, 13\, rue Kummel\, Beafort\, Grevenmacher\, 6310\, Luxemburg
CATEGORIES:lokal Veranstaltung
END:VEVENT
BEGIN:VEVENT
DTSTART;TZID=Europe/Luxembourg:20171203T080000
DTEND;TZID=Europe/Luxembourg:20171203T170000
DTSTAMP:20260423T145828
CREATED:20171203T102104Z
LAST-MODIFIED:20171203T102104Z
UID:478-1512288000-1512320400@beeforter.senioren.lu
SUMMARY:xx
DESCRIPTION:xx
URL:https://beeforter.senioren.lu/termin/xx/
LOCATION:Grevenmacher
CATEGORIES:lokal Veranstaltung
END:VEVENT
BEGIN:VEVENT
DTSTART;TZID=Europe/Luxembourg:20171203T080000
DTEND;TZID=Europe/Luxembourg:20171203T170000
DTSTAMP:20260423T145828
CREATED:20171203T100944Z
LAST-MODIFIED:20171203T100944Z
UID:472-1512288000-1512320400@beeforter.senioren.lu
SUMMARY:Programm 2017
DESCRIPTION:Das Programm bei den Beeforter Senioren von 2017 sieht noch etliche Veranstaltungen vor:\n \nNiklosfeier mit Bazar auf der Kummel\nWeihnachtsmarkt in Traben-Trarbach\nKrëschtfeier mit Tombola auf der Kummel \nProgramm 2017
URL:https://beeforter.senioren.lu/termin/programm-2017/
LOCATION:Grevenmacher
END:VEVENT
BEGIN:VEVENT
DTSTART;VALUE=DATE:20171126
DTEND;VALUE=DATE:20171127
DTSTAMP:20260423T145828
CREATED:20170805T150400Z
LAST-MODIFIED:20170805T151410Z
UID:373-1511654400-1511740799@beeforter.senioren.lu
SUMMARY:Journée 55+
DESCRIPTION:
URL:https://beeforter.senioren.lu/termin/journee-55/
LOCATION:Op der Kummel\, 13\, rue Kummel\, Beafort\, Grevenmacher\, 6310\, Luxemburg
CATEGORIES:lokal Veranstaltung
END:VEVENT
BEGIN:VEVENT
DTSTART;VALUE=DATE:20171108
DTEND;VALUE=DATE:20171109
DTSTAMP:20260423T145828
CREATED:20170805T150233Z
LAST-MODIFIED:20170805T150301Z
UID:370-1510099200-1510185599@beeforter.senioren.lu
SUMMARY:Happy Birthday 2-2017
DESCRIPTION:
URL:https://beeforter.senioren.lu/termin/happy-birthday-2-2017/
LOCATION:Hôtel Meyer\,  120\, Grand-Rue\, Beaufort\, 6310 \, Luxemburg
CATEGORIES:lokal Veranstaltung
END:VEVENT
BEGIN:VEVENT
DTSTART;VALUE=DATE:20171011
DTEND;VALUE=DATE:20171012
DTSTAMP:20260423T145828
CREATED:20170805T150117Z
LAST-MODIFIED:20170805T150117Z
UID:368-1507680000-1507766399@beeforter.senioren.lu
SUMMARY:Tagesfahrt
DESCRIPTION:Wou mer fueren get nach veröffentlecht.
URL:https://beeforter.senioren.lu/termin/tagesfahrt/
LOCATION:Grevenmacher
CATEGORIES:Tagesreise
END:VEVENT
BEGIN:VEVENT
DTSTART;VALUE=DATE:20170927
DTEND;VALUE=DATE:20170928
DTSTAMP:20260423T145828
CREATED:20170805T145959Z
LAST-MODIFIED:20170805T150716Z
UID:366-1506470400-1506556799@beeforter.senioren.lu
SUMMARY:Pappendag
DESCRIPTION:
URL:https://beeforter.senioren.lu/termin/pappendag/
LOCATION:Grevenmacher
CATEGORIES:lokal Veranstaltung
END:VEVENT
END:VCALENDAR