BEGIN:VCALENDAR
VERSION:2.0
PRODID:-//D&#039;Beeforter Senioren - ECPv6.15.18//NONSGML v1.0//EN
CALSCALE:GREGORIAN
METHOD:PUBLISH
X-WR-CALNAME:D&#039;Beeforter Senioren
X-ORIGINAL-URL:https://beeforter.senioren.lu
X-WR-CALDESC:Veranstaltungen für D&#039;Beeforter Senioren
REFRESH-INTERVAL;VALUE=DURATION:PT1H
X-Robots-Tag:noindex
X-PUBLISHED-TTL:PT1H
BEGIN:VTIMEZONE
TZID:Europe/Luxembourg
BEGIN:DAYLIGHT
TZOFFSETFROM:+0100
TZOFFSETTO:+0200
TZNAME:CEST
DTSTART:20170326T010000
END:DAYLIGHT
BEGIN:STANDARD
TZOFFSETFROM:+0200
TZOFFSETTO:+0100
TZNAME:CET
DTSTART:20171029T010000
END:STANDARD
BEGIN:DAYLIGHT
TZOFFSETFROM:+0100
TZOFFSETTO:+0200
TZNAME:CEST
DTSTART:20180325T010000
END:DAYLIGHT
BEGIN:STANDARD
TZOFFSETFROM:+0200
TZOFFSETTO:+0100
TZNAME:CET
DTSTART:20181028T010000
END:STANDARD
BEGIN:DAYLIGHT
TZOFFSETFROM:+0100
TZOFFSETTO:+0200
TZNAME:CEST
DTSTART:20190331T010000
END:DAYLIGHT
BEGIN:STANDARD
TZOFFSETFROM:+0200
TZOFFSETTO:+0100
TZNAME:CET
DTSTART:20191027T010000
END:STANDARD
END:VTIMEZONE
BEGIN:VEVENT
DTSTART;TZID=Europe/Luxembourg:20180328T143000
DTEND;TZID=Europe/Luxembourg:20180328T173000
DTSTAMP:20260424T194026
CREATED:20171210T113552Z
LAST-MODIFIED:20171210T113626Z
UID:522-1522247400-1522258200@beeforter.senioren.lu
SUMMARY:Ouschterfeier
DESCRIPTION:Den 28. März hu mir eis Ouschterfeier op der Kummel. Jiddfereen den kennt kritt en Ouschterhieschen geschenkt.
URL:https://beeforter.senioren.lu/termin/ouschterfeier-2/
LOCATION:Op der Kummel\, 13\, rue Kummel\, Beafort\, Grevenmacher\, 6310\, Luxemburg
CATEGORIES:lokal Veranstaltung
END:VEVENT
END:VCALENDAR