BEGIN:VCALENDAR
VERSION:2.0
PRODID:-//D&#039;Beeforter Senioren - ECPv6.15.18//NONSGML v1.0//EN
CALSCALE:GREGORIAN
METHOD:PUBLISH
X-WR-CALNAME:D&#039;Beeforter Senioren
X-ORIGINAL-URL:https://beeforter.senioren.lu
X-WR-CALDESC:Veranstaltungen für D&#039;Beeforter Senioren
REFRESH-INTERVAL;VALUE=DURATION:PT1H
X-Robots-Tag:noindex
X-PUBLISHED-TTL:PT1H
BEGIN:VTIMEZONE
TZID:Europe/Berlin
BEGIN:DAYLIGHT
TZOFFSETFROM:+0100
TZOFFSETTO:+0200
TZNAME:CEST
DTSTART:20150329T010000
END:DAYLIGHT
BEGIN:STANDARD
TZOFFSETFROM:+0200
TZOFFSETTO:+0100
TZNAME:CET
DTSTART:20151025T010000
END:STANDARD
BEGIN:DAYLIGHT
TZOFFSETFROM:+0100
TZOFFSETTO:+0200
TZNAME:CEST
DTSTART:20160327T010000
END:DAYLIGHT
BEGIN:STANDARD
TZOFFSETFROM:+0200
TZOFFSETTO:+0100
TZNAME:CET
DTSTART:20161030T010000
END:STANDARD
BEGIN:DAYLIGHT
TZOFFSETFROM:+0100
TZOFFSETTO:+0200
TZNAME:CEST
DTSTART:20170326T010000
END:DAYLIGHT
BEGIN:STANDARD
TZOFFSETFROM:+0200
TZOFFSETTO:+0100
TZNAME:CET
DTSTART:20171029T010000
END:STANDARD
END:VTIMEZONE
BEGIN:VEVENT
DTSTART;TZID=Europe/Berlin:20161109T113000
DTEND;TZID=Europe/Berlin:20161109T160000
DTSTAMP:20260424T203913
CREATED:20160507T130804Z
LAST-MODIFIED:20170805T145853Z
UID:131-1478691000-1478707200@beeforter.senioren.lu
SUMMARY:Happy Birthday bei Hotel Meyer
DESCRIPTION:Die Beeforter Senioren laden alle Mitglieder zum traditionellen Essen im Herbst ins Hotel Meyer ein. Wie es die Ttradition so will werden alle Mitglieder der Beeforter Senioren die einen runden Geburtstag ab 75 feiern mit einem Präsntkorb geehrt. Die Jubilaren erhalten jeweils ein persönliche Einladung. Unsere Mitglieder melden sich wie gewöhnlich telefonisch bei Léonie Switala an. \nUnter unserer Rubrik „INFOS“ werden wir demnächst die Details veröffentlichen. \n  \n 
URL:https://beeforter.senioren.lu/termin/happy-birthday-bei-hotel-meyer/
LOCATION:Hôtel Meyer\,  120\, Grand-Rue\, Beaufort\, 6310 \, Luxemburg
CATEGORIES:lokal Veranstaltung
END:VEVENT
END:VCALENDAR